BEGIN:VCALENDAR
VERSION:2.0
PRODID:-//Renfrew Victoria Hospital Foundation - ECPv6.15.14//NONSGML v1.0//EN
CALSCALE:GREGORIAN
METHOD:PUBLISH
X-ORIGINAL-URL:https://rvhfoundation.com
X-WR-CALDESC:Events for Renfrew Victoria Hospital Foundation
REFRESH-INTERVAL;VALUE=DURATION:PT1H
X-Robots-Tag:noindex
X-PUBLISHED-TTL:PT1H
BEGIN:VTIMEZONE
TZID:America/Toronto
BEGIN:DAYLIGHT
TZOFFSETFROM:-0500
TZOFFSETTO:-0400
TZNAME:EDT
DTSTART:20240310T070000
END:DAYLIGHT
BEGIN:STANDARD
TZOFFSETFROM:-0400
TZOFFSETTO:-0500
TZNAME:EST
DTSTART:20241103T060000
END:STANDARD
BEGIN:DAYLIGHT
TZOFFSETFROM:-0500
TZOFFSETTO:-0400
TZNAME:EDT
DTSTART:20250309T070000
END:DAYLIGHT
BEGIN:STANDARD
TZOFFSETFROM:-0400
TZOFFSETTO:-0500
TZNAME:EST
DTSTART:20251102T060000
END:STANDARD
BEGIN:DAYLIGHT
TZOFFSETFROM:-0500
TZOFFSETTO:-0400
TZNAME:EDT
DTSTART:20260308T070000
END:DAYLIGHT
BEGIN:STANDARD
TZOFFSETFROM:-0400
TZOFFSETTO:-0500
TZNAME:EST
DTSTART:20261101T060000
END:STANDARD
END:VTIMEZONE
BEGIN:VEVENT
DTSTART;TZID=America/Toronto:20251001T080000
DTEND;TZID=America/Toronto:20251031T170000
DTSTAMP:20260423T014305
CREATED:20250716T192038Z
LAST-MODIFIED:20250718T131930Z
UID:10000010-1759305600-1761930000@rvhfoundation.com
SUMMARY:Breast Cancer Awareness Month
DESCRIPTION:Throughout the month of October\, you are encourage to PUT YOUR BREAST FOOT FORWARD in our annual a virtual 5km Walk/Run for RVH Mammography. \nSign up to walk\, get a group and have some fun\, take some pictures and paint the town PINK! \nRegistration will open soon and participants will have the flexibility to walk when it’s convenient and send us photos. \nAll dollars raised will be directed towards our RVH Mammography unit which provides important Breast screening and breast care to our community members. \nLet’s get ready to “MAKE SOME MAMMORIES!” \nCreate your own fundraising page or make a donation \n 
URL:https://rvhfoundation.com/event/breast-cancer-awareness-month/
CATEGORIES:RVHF Events
ATTACH;FMTTYPE=image/jpeg:https://rvhfoundation.com/2024/wp-content/uploads/2025/07/Breast_Foot_Forward_1-1.jpg
END:VEVENT
END:VCALENDAR